BEGIN:VCALENDAR
CALSCALE:GREGORIAN
X-WR-TIMEZONE;VALUE=TEXT:Pacific Standard Time
METHOD:PUBLISH
PRODID:-//Flo Inc.//FloSoft//EN
BEGIN:VEVENT
DTSTART;TZID=Pacific Standard Time:20130415T190000Z
DTSTAMP:20130415T190000Z
DTEND;TZID=Pacific Standard Time:20130415T200000Z
SUMMARY;ENCODING=QUOTED-PRINTABLE:The Fourth Way: Leading the Future  a lecture by Princess Basmah bint Saud
DESCRIPTION;ENCODING=QUOTED-PRINTABLE:A lecture by Princess Basmah bint Saud on The Fourth Way, her concept of establishing a new platform to help succeed in bringing stability to the world where large international non-governmental organizations have been failing.


LOCATION;ENCODING=QUOTED-PRINTABLE:306 Royce Hall, UCLA
UID:998820130415T190000ZThe Fourth Way: Leading the Future  a lecture by Princess Basmah bint Saud
PRIORITY:3
BEGIN:VALARM
TRIGGER;VALUE=DURATION:-P1D
ACTION:DISPLAY
DESCRIPTION:Event reminder
END:VALARM
END:VEVENT
END:VCALENDAR
