BEGIN:VCALENDAR
CALSCALE:GREGORIAN
X-WR-TIMEZONE;VALUE=TEXT:Pacific Standard Time
METHOD:PUBLISH
PRODID:-//Flo Inc.//FloSoft//EN
BEGIN:VEVENT
DTSTART;TZID=Pacific Standard Time:20121012T220000Z
DTSTAMP:20121012T220000Z
DTEND;TZID=Pacific Standard Time:20121013T000000Z
SUMMARY;ENCODING=QUOTED-PRINTABLE:The Buddha Sakyamuni and the Courtesan Utpalavarna in Gandhâran Buddhist Art
DESCRIPTION;ENCODING=QUOTED-PRINTABLE: By Dr. Osmund Bopearachchi, Scholar of Gandharan Art and Sri Lankan Archaeology
LOCATION;ENCODING=QUOTED-PRINTABLE:275 Dodd Hall, UCLA
UID:953620121012T220000ZThe Buddha Sakyamuni and the Courtesan Utpalavarna in Gandhâran Buddhist Art
PRIORITY:3
BEGIN:VALARM
TRIGGER;VALUE=DURATION:-P1D
ACTION:DISPLAY
DESCRIPTION:Event reminder
END:VALARM
END:VEVENT
END:VCALENDAR
