BEGIN:VCALENDAR
CALSCALE:GREGORIAN
X-WR-TIMEZONE;VALUE=TEXT:Pacific Standard Time
METHOD:PUBLISH
PRODID:-//Flo Inc.//FloSoft//EN
BEGIN:VEVENT
DTSTART;TZID=Pacific Standard Time:20120412T230000Z
DTSTAMP:20120412T230000Z
DTEND;TZID=Pacific Standard Time:20120413T000000Z
SUMMARY;ENCODING=QUOTED-PRINTABLE:Rethinking Armenian History through Paradigms of Interaction: The Armenian Experience with Islam as Case Study
DESCRIPTION;ENCODING=QUOTED-PRINTABLE:A lecture by Seta Dadoyan, Yerevan State University
LOCATION;ENCODING=QUOTED-PRINTABLE:10383 Bunche Hall, UCLA
UID:925620120412T230000ZRethinking Armenian History through Paradigms of Interaction: The Armenian Experience with Islam as Case Study
PRIORITY:3
BEGIN:VALARM
TRIGGER;VALUE=DURATION:-P1D
ACTION:DISPLAY
DESCRIPTION:Event reminder
END:VALARM
END:VEVENT
END:VCALENDAR
