BEGIN:VCALENDAR
CALSCALE:GREGORIAN
X-WR-TIMEZONE;VALUE=TEXT:Pacific Standard Time
METHOD:PUBLISH
PRODID:-//Flo Inc.//FloSoft//EN
BEGIN:VEVENT
DTSTART;TZID=Pacific Standard Time:20110523T200000Z
DTSTAMP:20110523T200000Z
DTEND;TZID=Pacific Standard Time:20110523T220000Z
SUMMARY;ENCODING=QUOTED-PRINTABLE:Mushuk Nina/Fuego Nuevo (New Flame)
DESCRIPTION;ENCODING=QUOTED-PRINTABLE:A celebration of renewal in the Andean World. The sacred flame is used as a metaphor signifying renewal of life in the Andean communities.
LOCATION;ENCODING=QUOTED-PRINTABLE:314 Royce Hall, UCLA
UID:891820110523T200000ZMushuk Nina/Fuego Nuevo (New Flame)
PRIORITY:3
BEGIN:VALARM
TRIGGER;VALUE=DURATION:-P1D
ACTION:DISPLAY
DESCRIPTION:Event reminder
END:VALARM
END:VEVENT
END:VCALENDAR
