BEGIN:VCALENDAR
CALSCALE:GREGORIAN
X-WR-TIMEZONE;VALUE=TEXT:Pacific Standard Time
METHOD:PUBLISH
PRODID:-//Flo Inc.//FloSoft//EN
BEGIN:VEVENT
DTSTART;TZID=Pacific Standard Time:20000418T030000Z
DTSTAMP:20000418T030000Z
DTEND;TZID=Pacific Standard Time:20000418T060000Z
SUMMARY;ENCODING=QUOTED-PRINTABLE:Celebrate 50 years of African Studies:  An Evening with Baaba Maal
DESCRIPTION;ENCODING=QUOTED-PRINTABLE:Please join us to celebrate 50 years of the UCLA African Studies Center with a special performance by and private post-concert gala reception with Senegalese artist Baaba Maal.  
LOCATION;ENCODING=QUOTED-PRINTABLE:UCLA Royce Hall
UID:800820000418T030000ZCelebrate 50 years of African Studies:  An Evening with Baaba Maal
PRIORITY:3
BEGIN:VALARM
TRIGGER;VALUE=DURATION:-P1D
ACTION:DISPLAY
DESCRIPTION:Event reminder
END:VALARM
END:VEVENT
END:VCALENDAR
