BEGIN:VCALENDAR
CALSCALE:GREGORIAN
X-WR-TIMEZONE;VALUE=TEXT:Pacific Standard Time
METHOD:PUBLISH
PRODID:-//Flo Inc.//FloSoft//EN
BEGIN:VEVENT
DTSTART;TZID=Pacific Standard Time:20070427T160000Z
DTSTAMP:20070427T160000Z
DTEND;TZID=Pacific Standard Time:20070428T003000Z
SUMMARY;ENCODING=QUOTED-PRINTABLE:Rethinking Africa's China Factor: Identifying Players, Strategies, and Practices
DESCRIPTION;ENCODING=QUOTED-PRINTABLE:Various Keynotes
Fri 27th April 2007 9:00 am - 5:30 pm
6275 Bunche Hall
Globalization Research Center--Africa
LOCATION;ENCODING=QUOTED-PRINTABLE:
UID:748920070427T160000ZRethinking Africa's China Factor: Identifying Players, Strategies, and Practices
PRIORITY:3
BEGIN:VALARM
TRIGGER;VALUE=DURATION:-P1D
ACTION:DISPLAY
DESCRIPTION:Event reminder
END:VALARM
END:VEVENT
END:VCALENDAR
