BEGIN:VCALENDAR
CALSCALE:GREGORIAN
X-WR-TIMEZONE;VALUE=TEXT:Pacific Standard Time
METHOD:PUBLISH
PRODID:-//Flo Inc.//FloSoft//EN
BEGIN:VEVENT
DTSTART;TZID=Pacific Standard Time:20090209T190000Z
DTSTAMP:20090209T190000Z
DTEND;TZID=Pacific Standard Time:20090209T200000Z
SUMMARY;ENCODING=QUOTED-PRINTABLE:Timurid Custom and Chinggisid Law: Continuity and Innovation
DESCRIPTION;ENCODING=QUOTED-PRINTABLE:A CISA and Central Asia Initiative Seminar
LOCATION;ENCODING=QUOTED-PRINTABLE:10383 Bunche Hall
UID:719420090209T190000ZTimurid Custom and Chinggisid Law: Continuity and Innovation
PRIORITY:3
BEGIN:VALARM
TRIGGER;VALUE=DURATION:-P1D
ACTION:DISPLAY
DESCRIPTION:Event reminder
END:VALARM
END:VEVENT
END:VCALENDAR
