BEGIN:VCALENDAR
CALSCALE:GREGORIAN
X-WR-TIMEZONE;VALUE=TEXT:Pacific Standard Time
METHOD:PUBLISH
PRODID:-//Flo Inc.//FloSoft//EN
BEGIN:VEVENT
DTSTART;TZID=Pacific Standard Time:20081113T233000Z
DTSTAMP:20081113T233000Z
DTEND;TZID=Pacific Standard Time:20081114T010000Z
SUMMARY;ENCODING=QUOTED-PRINTABLE:Erlitou: A Key to the Origin of Chinese Civilization
DESCRIPTION;ENCODING=QUOTED-PRINTABLE:A talk by XU HONG (head of the Erlitou Excavation Team of the Chinese Academy of Social Sciences), cosponsored by the Cotsen Institute of Archaeology. Discussant: Min Li (UCLA Dept of Asian Languages & Cultures, and Cotsen Institute)
LOCATION;ENCODING=QUOTED-PRINTABLE:10383 Bunche Hall, UCLA
UID:707920081113T233000ZErlitou: A Key to the Origin of Chinese Civilization
PRIORITY:3
BEGIN:VALARM
TRIGGER;VALUE=DURATION:-P1D
ACTION:DISPLAY
DESCRIPTION:Event reminder
END:VALARM
END:VEVENT
END:VCALENDAR
