BEGIN:VCALENDAR
CALSCALE:GREGORIAN
X-WR-TIMEZONE;VALUE=TEXT:Pacific Standard Time
METHOD:PUBLISH
PRODID:-//Flo Inc.//FloSoft//EN
BEGIN:VEVENT
DTSTART;TZID=Pacific Standard Time:20070420T010000Z
DTSTAMP:20070420T010000Z
DTEND;TZID=Pacific Standard Time:20070420T050000Z
SUMMARY;ENCODING=QUOTED-PRINTABLE:UNICEF at USC's Voice of a Child - Uniting to Help the Children of Angola
DESCRIPTION;ENCODING=QUOTED-PRINTABLE:UNICEF at USC is hosting a night of unity and humanitarian consciousness featuring a benefit concert, raffles, food, and a keynote address by Dr. Gerald Bender.  All proceeds go to UNICEF's aid work in Angola.
LOCATION;ENCODING=QUOTED-PRINTABLE:McCarthy Quad, University of Southern California campus
UID:583420070420T010000ZUNICEF at USC's Voice of a Child - Uniting to Help the Children of Angola
PRIORITY:3
BEGIN:VALARM
TRIGGER;VALUE=DURATION:-P1D
ACTION:DISPLAY
DESCRIPTION:Event reminder
END:VALARM
END:VEVENT
END:VCALENDAR
