BEGIN:VCALENDAR
CALSCALE:GREGORIAN
X-WR-TIMEZONE;VALUE=TEXT:Pacific Standard Time
METHOD:PUBLISH
PRODID:-//Flo Inc.//FloSoft//EN
BEGIN:VEVENT
DTSTART;TZID=Pacific Standard Time:20030213T220000Z
DTSTAMP:20030213T220000Z
DTEND;TZID=Pacific Standard Time:20030214T010000Z
SUMMARY;ENCODING=QUOTED-PRINTABLE:The Fourth Dimension: Digital Video and Lecture by Trinh T. Minh-Ha
DESCRIPTION;ENCODING=QUOTED-PRINTABLE:An exploration of time, life and art in Japanese culture 
LOCATION;ENCODING=QUOTED-PRINTABLE:UCLA, 314 Royce Hall
UID:45820030213T220000ZThe Fourth Dimension: Digital Video and Lecture by Trinh T. Minh-Ha
PRIORITY:3
BEGIN:VALARM
TRIGGER;VALUE=DURATION:-P1D
ACTION:DISPLAY
DESCRIPTION:Event reminder
END:VALARM
END:VEVENT
END:VCALENDAR
