BEGIN:VCALENDAR
CALSCALE:GREGORIAN
X-WR-TIMEZONE;VALUE=TEXT:Pacific Standard Time
METHOD:PUBLISH
PRODID:-//Flo Inc.//FloSoft//EN
BEGIN:VEVENT
DTSTART;TZID=Pacific Standard Time:20060212T023000Z
DTSTAMP:20060212T023000Z
DTEND;TZID=Pacific Standard Time:20060212T050000Z
SUMMARY;ENCODING=QUOTED-PRINTABLE:So Close, So Far (Kheili Dour, Kheili Nazdik)
DESCRIPTION;ENCODING=QUOTED-PRINTABLE:16th Annual Celebration of Iranian Cinema
LOCATION;ENCODING=QUOTED-PRINTABLE:James Bridges Theater, Melnitz Hall, University of California
UID:408820060212T023000ZSo Close, So Far (Kheili Dour, Kheili Nazdik)
PRIORITY:3
BEGIN:VALARM
TRIGGER;VALUE=DURATION:-P1D
ACTION:DISPLAY
DESCRIPTION:Event reminder
END:VALARM
END:VEVENT
END:VCALENDAR
