BEGIN:VCALENDAR
CALSCALE:GREGORIAN
X-WR-TIMEZONE;VALUE=TEXT:Pacific Standard Time
METHOD:PUBLISH
PRODID:-//Flo Inc.//FloSoft//EN
BEGIN:VEVENT
DTSTART;TZID=Pacific Standard Time:20041201T160000Z
DTSTAMP:20041201T160000Z
DTEND;TZID=Pacific Standard Time:20041202T000000Z
SUMMARY;ENCODING=QUOTED-PRINTABLE:A Plague upon Humanity: The Secret Genocide of Axis Japan's Germ Warfare Operation  
DESCRIPTION;ENCODING=QUOTED-PRINTABLE:At UCLA, Kerckhoff Hall
LOCATION;ENCODING=QUOTED-PRINTABLE:UCLA, Kerckhoff Hall
UID:246420041201T160000ZA Plague upon Humanity: The Secret Genocide of Axis Japan's Germ Warfare Operation  
PRIORITY:3
BEGIN:VALARM
TRIGGER;VALUE=DURATION:-P1D
ACTION:DISPLAY
DESCRIPTION:Event reminder
END:VALARM
END:VEVENT
END:VCALENDAR
