BEGIN:VCALENDAR
CALSCALE:GREGORIAN
X-WR-TIMEZONE;VALUE=TEXT:Pacific Standard Time
METHOD:PUBLISH
PRODID:-//Flo Inc.//FloSoft//EN
BEGIN:VEVENT
DTSTART;TZID=Pacific Standard Time:20041116T220000Z
DTSTAMP:20041116T220000Z
DTEND;TZID=Pacific Standard Time:20041117T000000Z
SUMMARY;ENCODING=QUOTED-PRINTABLE:Houchang Chehabi: The Importance of Beirut for Iranian Modernity and Politics (delivered in English)
DESCRIPTION;ENCODING=QUOTED-PRINTABLE:This lecture is part the Center's Persian Lecture Series.
LOCATION;ENCODING=QUOTED-PRINTABLE:UCLA, Von Grunebaum Library, 10383 Bunche Hall
UID:213820041116T220000ZHouchang Chehabi: The Importance of Beirut for Iranian Modernity and Politics (delivered in English)
PRIORITY:3
BEGIN:VALARM
TRIGGER;VALUE=DURATION:-P1D
ACTION:DISPLAY
DESCRIPTION:Event reminder
END:VALARM
END:VEVENT
END:VCALENDAR
