BEGIN:VCALENDAR
CALSCALE:GREGORIAN
X-WR-TIMEZONE;VALUE=TEXT:Pacific Standard Time
METHOD:PUBLISH
PRODID:-//Flo Inc.//FloSoft//EN
BEGIN:VEVENT
DTSTART;TZID=Pacific Standard Time:20041007T230000Z
DTSTAMP:20041007T230000Z
DTEND;TZID=Pacific Standard Time:20041008T010000Z
SUMMARY;ENCODING=QUOTED-PRINTABLE:Afsaneh Najmabadi: Women with Mustaches and Men without Beards (delivered in English)
DESCRIPTION;ENCODING=QUOTED-PRINTABLE:This lecture is part the Center's Persian Lecture Series.
LOCATION;ENCODING=QUOTED-PRINTABLE:UCLA, History Conference Room, 6275 Bunche Hall
UID:210220041007T230000ZAfsaneh Najmabadi: Women with Mustaches and Men without Beards (delivered in English)
PRIORITY:3
BEGIN:VALARM
TRIGGER;VALUE=DURATION:-P1D
ACTION:DISPLAY
DESCRIPTION:Event reminder
END:VALARM
END:VEVENT
END:VCALENDAR
