BEGIN:VCALENDAR
CALSCALE:GREGORIAN
X-WR-TIMEZONE;VALUE=TEXT:Pacific Standard Time
METHOD:PUBLISH
PRODID:-//Flo Inc.//FloSoft//EN
BEGIN:VEVENT
DTSTART;TZID=Pacific Standard Time:20040524T213000Z
DTSTAMP:20040524T213000Z
DTEND;TZID=Pacific Standard Time:20040524T230000Z
SUMMARY;ENCODING=QUOTED-PRINTABLE:U.S. Involvement in the History of West Papua and the Human Rights Situation Today
DESCRIPTION;ENCODING=QUOTED-PRINTABLE:A Colloquium with John Rumbiak, Columbia University Center for Human Rights Study and Patsy Spier, survivor of a 2002 ambush in West Papua
LOCATION;ENCODING=QUOTED-PRINTABLE:10383 Bunche Hall, UCLA Campus
UID:178620040524T213000ZU.S. Involvement in the History of West Papua and the Human Rights Situation Today
PRIORITY:3
BEGIN:VALARM
TRIGGER;VALUE=DURATION:-P1D
ACTION:DISPLAY
DESCRIPTION:Event reminder
END:VALARM
END:VEVENT
END:VCALENDAR
