BEGIN:VCALENDAR
CALSCALE:GREGORIAN
X-WR-TIMEZONE;VALUE=TEXT:Pacific Standard Time
METHOD:PUBLISH
PRODID:-//Flo Inc.//FloSoft//EN
BEGIN:VEVENT
DTSTART;TZID=Pacific Standard Time:20260428T000000Z
DTSTAMP:20260428T000000Z
DTEND;TZID=Pacific Standard Time:20260428T010000Z
SUMMARY;ENCODING=QUOTED-PRINTABLE:Building for Devotion: The Cells and Cloisters of Cusco's Convents (17th c.)
DESCRIPTION;ENCODING=QUOTED-PRINTABLE:Event organized by The Andean Working Group 
LOCATION;ENCODING=QUOTED-PRINTABLE:Webinar 
UID:1766520260428T000000ZBuilding for Devotion: The Cells and Cloisters of Cusco's Convents (17th c.)
PRIORITY:3
BEGIN:VALARM
TRIGGER;VALUE=DURATION:-P1D
ACTION:DISPLAY
DESCRIPTION:Event reminder
END:VALARM
END:VEVENT
END:VCALENDAR
