BEGIN:VCALENDAR
CALSCALE:GREGORIAN
X-WR-TIMEZONE;VALUE=TEXT:Pacific Standard Time
METHOD:PUBLISH
PRODID:-//Flo Inc.//FloSoft//EN
BEGIN:VEVENT
DTSTART;TZID=Pacific Standard Time:20260427T180000Z
DTSTAMP:20260427T180000Z
DTEND;TZID=Pacific Standard Time:20260427T191500Z
SUMMARY;ENCODING=QUOTED-PRINTABLE:Wei Yingwu (737–792) and His “Clerky Doubles”:  Poetry and Bureaucracy in Eight-Century China 
DESCRIPTION;ENCODING=QUOTED-PRINTABLE:Talk by Prof. Lu Kou, Columbia University.
LOCATION;ENCODING=QUOTED-PRINTABLE:Powell Library 320
UID:1760220260427T180000ZWei Yingwu (737–792) and His “Clerky Doubles”:  Poetry and Bureaucracy in Eight-Century China 
PRIORITY:3
BEGIN:VALARM
TRIGGER;VALUE=DURATION:-P1D
ACTION:DISPLAY
DESCRIPTION:Event reminder
END:VALARM
END:VEVENT
END:VCALENDAR
