BEGIN:VCALENDAR
CALSCALE:GREGORIAN
X-WR-TIMEZONE;VALUE=TEXT:Pacific Standard Time
METHOD:PUBLISH
PRODID:-//Flo Inc.//FloSoft//EN
BEGIN:VEVENT
DTSTART;TZID=Pacific Standard Time:20241222T033000Z
DTSTAMP:20241222T033000Z
DTEND;TZID=Pacific Standard Time:20241222T043000Z
SUMMARY;ENCODING=QUOTED-PRINTABLE:Film Screening: A Rosy Life (장미빛 인생) 
DESCRIPTION;ENCODING=QUOTED-PRINTABLE:This screening is the North American Restoration Premiere in 4K at Ted Mann Theater, Academy Museum of Motion Pictures 
LOCATION;ENCODING=QUOTED-PRINTABLE:Ted Mann Theater at Academy Museum of Motion Pictures , 60167, Wilshire Blvd.
UID:1699220241222T033000ZFilm Screening: A Rosy Life (장미빛 인생) 
PRIORITY:3
BEGIN:VALARM
TRIGGER;VALUE=DURATION:-P1D
ACTION:DISPLAY
DESCRIPTION:Event reminder
END:VALARM
END:VEVENT
END:VCALENDAR
