BEGIN:VCALENDAR
CALSCALE:GREGORIAN
X-WR-TIMEZONE;VALUE=TEXT:Pacific Standard Time
METHOD:PUBLISH
PRODID:-//Flo Inc.//FloSoft//EN
BEGIN:VEVENT
DTSTART;TZID=Pacific Standard Time:20241119T020000Z
DTSTAMP:20241119T020000Z
DTEND;TZID=Pacific Standard Time:20241119T040000Z
SUMMARY;ENCODING=QUOTED-PRINTABLE:Screening of the Ukrainian film A Rising Fury
DESCRIPTION;ENCODING=QUOTED-PRINTABLE:A film about identity, belonging and conflicting information sources, set in the context leading up to the current war in Ukraine. Immediately preceding the screening, there will be a brief presentation by the UCLA Peace Corps Representative, who served in Ukraine.This event is open to UCLA students, faculty and staff (only).


LOCATION;ENCODING=QUOTED-PRINTABLE:Bunche Hall, Rm 2209A
UID:1691620241119T020000ZScreening of the Ukrainian film A Rising Fury
PRIORITY:3
BEGIN:VALARM
TRIGGER;VALUE=DURATION:-P1D
ACTION:DISPLAY
DESCRIPTION:Event reminder
END:VALARM
END:VEVENT
END:VCALENDAR
