BEGIN:VCALENDAR
CALSCALE:GREGORIAN
X-WR-TIMEZONE;VALUE=TEXT:Pacific Standard Time
METHOD:PUBLISH
PRODID:-//Flo Inc.//FloSoft//EN
BEGIN:VEVENT
DTSTART;TZID=Pacific Standard Time:20241116T033000Z
DTSTAMP:20241116T033000Z
DTEND;TZID=Pacific Standard Time:20241116T043000Z
SUMMARY;ENCODING=QUOTED-PRINTABLE:Science Fiction Against the Margins: Seeing is Not Believing
DESCRIPTION;ENCODING=QUOTED-PRINTABLE:Science fiction films from Thailand, South Korea and the U.S. explore the oscillation between belief and doubt in alien forces in this UCLA Film &amp; Television Archive Series.
LOCATION;ENCODING=QUOTED-PRINTABLE:Hammer Museum, Billy Wilder Theater
UID:1690020241116T033000ZScience Fiction Against the Margins: Seeing is Not Believing
PRIORITY:3
BEGIN:VALARM
TRIGGER;VALUE=DURATION:-P1D
ACTION:DISPLAY
DESCRIPTION:Event reminder
END:VALARM
END:VEVENT
END:VCALENDAR
