BEGIN:VCALENDAR
CALSCALE:GREGORIAN
X-WR-TIMEZONE;VALUE=TEXT:Pacific Standard Time
METHOD:PUBLISH
PRODID:-//Flo Inc.//FloSoft//EN
BEGIN:VEVENT
DTSTART;TZID=Pacific Standard Time:20241205T173000Z
DTSTAMP:20241205T173000Z
DTEND;TZID=Pacific Standard Time:20241205T223000Z
SUMMARY;ENCODING=QUOTED-PRINTABLE:Sites of Encounter in the Muslim World: Delhi
DESCRIPTION;ENCODING=QUOTED-PRINTABLE:Professional Development Series for World History Teachers
LOCATION;ENCODING=QUOTED-PRINTABLE:Venue TBA
UID:1683420241205T173000ZSites of Encounter in the Muslim World: Delhi
PRIORITY:3
BEGIN:VALARM
TRIGGER;VALUE=DURATION:-P1D
ACTION:DISPLAY
DESCRIPTION:Event reminder
END:VALARM
END:VEVENT
END:VCALENDAR
