BEGIN:VCALENDAR
CALSCALE:GREGORIAN
X-WR-TIMEZONE;VALUE=TEXT:Pacific Standard Time
METHOD:PUBLISH
PRODID:-//Flo Inc.//FloSoft//EN
BEGIN:VEVENT
DTSTART;TZID=Pacific Standard Time:20240726T010000Z
DTSTAMP:20240726T010000Z
DTEND;TZID=Pacific Standard Time:20240726T030000Z
SUMMARY;ENCODING=QUOTED-PRINTABLE:An Evening of Exploration: Latino and Islamic Cultural Connections
DESCRIPTION;ENCODING=QUOTED-PRINTABLE: 
LOCATION;ENCODING=QUOTED-PRINTABLE:The Fowler Museum, 308 Charles E Young Drive North Los Angeles, CA 90024
UID:1677320240726T010000ZAn Evening of Exploration: Latino and Islamic Cultural Connections
PRIORITY:3
BEGIN:VALARM
TRIGGER;VALUE=DURATION:-P1D
ACTION:DISPLAY
DESCRIPTION:Event reminder
END:VALARM
END:VEVENT
END:VCALENDAR
