BEGIN:VCALENDAR
CALSCALE:GREGORIAN
X-WR-TIMEZONE;VALUE=TEXT:Pacific Standard Time
METHOD:PUBLISH
PRODID:-//Flo Inc.//FloSoft//EN
BEGIN:VEVENT
DTSTART;TZID=Pacific Standard Time:20240425T213000Z
DTSTAMP:20240425T213000Z
DTEND;TZID=Pacific Standard Time:20240425T233000Z
SUMMARY;ENCODING=QUOTED-PRINTABLE:US-China in Africa
DESCRIPTION;ENCODING=QUOTED-PRINTABLE:
LOCATION;ENCODING=QUOTED-PRINTABLE:UCLA Young Research Library, Rm #11360 (Conference Center)
UID:1666920240425T213000ZUS-China in Africa
PRIORITY:3
BEGIN:VALARM
TRIGGER;VALUE=DURATION:-P1D
ACTION:DISPLAY
DESCRIPTION:Event reminder
END:VALARM
END:VEVENT
END:VCALENDAR
