BEGIN:VCALENDAR
CALSCALE:GREGORIAN
X-WR-TIMEZONE;VALUE=TEXT:Pacific Standard Time
METHOD:PUBLISH
PRODID:-//Flo Inc.//FloSoft//EN
BEGIN:VEVENT
DTSTART;TZID=Pacific Standard Time:20231205T003000Z
DTSTAMP:20231205T003000Z
DTEND;TZID=Pacific Standard Time:20231205T013000Z
SUMMARY;ENCODING=QUOTED-PRINTABLE:Involuntary Consent: The Illusion of Choice in Japan's Adult Video Industry
DESCRIPTION;ENCODING=QUOTED-PRINTABLE:
LOCATION;ENCODING=QUOTED-PRINTABLE:Royce Hall, Rm 314
UID:1642520231205T003000ZInvoluntary Consent: The Illusion of Choice in Japan's Adult Video Industry
PRIORITY:3
BEGIN:VALARM
TRIGGER;VALUE=DURATION:-P1D
ACTION:DISPLAY
DESCRIPTION:Event reminder
END:VALARM
END:VEVENT
END:VCALENDAR
