BEGIN:VCALENDAR
CALSCALE:GREGORIAN
X-WR-TIMEZONE;VALUE=TEXT:Pacific Standard Time
METHOD:PUBLISH
PRODID:-//Flo Inc.//FloSoft//EN
BEGIN:VEVENT
DTSTART;TZID=Pacific Standard Time:20230610T230000Z
DTSTAMP:20230610T230000Z
DTEND;TZID=Pacific Standard Time:20230611T013000Z
SUMMARY;ENCODING=QUOTED-PRINTABLE:[Non-PAI Event] Remain in Light: Visions of Homeland and Diaspora
DESCRIPTION;ENCODING=QUOTED-PRINTABLE:Join the <a href="https://fowler.ucla.edu/" target="_blank">Fowler Museum at UCLA</a> for a presentation and reception celebrating its latest exhibition, <a href="https://fowler.ucla.edu/exhibitions/remain-in-light/?fbclid=IwAR2YNz-th4Gc1XDNw-z4BMUAjftDJ5q_TEHGUHw7eqhFtXo-41lyvvyCrV4#:~:text=6%3A30%20pm-,RSVP,-This%20exhibition%20of" target="_blank">"Remain in Light: Visions of Homeland and Diaspora."</a>
LOCATION;ENCODING=QUOTED-PRINTABLE: , The Fowler Museum at UCLA, 308 Charles E Young Drive North
UID:1622820230610T230000Z[Non-PAI Event] Remain in Light: Visions of Homeland and Diaspora
PRIORITY:3
BEGIN:VALARM
TRIGGER;VALUE=DURATION:-P1D
ACTION:DISPLAY
DESCRIPTION:Event reminder
END:VALARM
END:VEVENT
END:VCALENDAR
