BEGIN:VCALENDAR
CALSCALE:GREGORIAN
X-WR-TIMEZONE;VALUE=TEXT:Pacific Standard Time
METHOD:PUBLISH
PRODID:-//Flo Inc.//FloSoft//EN
BEGIN:VEVENT
DTSTART;TZID=Pacific Standard Time:20230608T074500Z
DTSTAMP:20230608T074500Z
DTEND;TZID=Pacific Standard Time:20230608T084500Z
SUMMARY;ENCODING=QUOTED-PRINTABLE:A New Wave of K-cinema: Korean women directors
DESCRIPTION;ENCODING=QUOTED-PRINTABLE:This screening series, which consists of contemporary films directed by Korean women, will feature films that explore the complexities of diverse conditions, including the trauma of domestic violence, investigations into gender and class politics, humanity’s relation to nature and the environment, and love and friendship. 

Use the code "KoreanWomen" for a $2 discount on any screening in the series!

LOCATION;ENCODING=QUOTED-PRINTABLE:
UID:1622220230608T074500ZA New Wave of K-cinema: Korean women directors
PRIORITY:3
BEGIN:VALARM
TRIGGER;VALUE=DURATION:-P1D
ACTION:DISPLAY
DESCRIPTION:Event reminder
END:VALARM
END:VEVENT
END:VCALENDAR
