BEGIN:VCALENDAR
CALSCALE:GREGORIAN
X-WR-TIMEZONE;VALUE=TEXT:Pacific Standard Time
METHOD:PUBLISH
PRODID:-//Flo Inc.//FloSoft//EN
BEGIN:VEVENT
DTSTART;TZID=Pacific Standard Time:20200123T071500Z
DTSTAMP:20200123T071500Z
DTEND;TZID=Pacific Standard Time:20200123T071500Z
SUMMARY;ENCODING=QUOTED-PRINTABLE:Law and Communal Identity in the Early Medieval World
DESCRIPTION;ENCODING=QUOTED-PRINTABLE:
LOCATION;ENCODING=QUOTED-PRINTABLE:Royce Hall 314
UID:1411220200123T071500ZLaw and Communal Identity in the Early Medieval World
PRIORITY:3
BEGIN:VALARM
TRIGGER;VALUE=DURATION:-P1D
ACTION:DISPLAY
DESCRIPTION:Event reminder
END:VALARM
END:VEVENT
END:VCALENDAR
