BEGIN:VCALENDAR
CALSCALE:GREGORIAN
X-WR-TIMEZONE;VALUE=TEXT:Pacific Standard Time
METHOD:PUBLISH
PRODID:-//Flo Inc.//FloSoft//EN
BEGIN:VEVENT
DTSTART;TZID=Pacific Standard Time:20170926T173000Z
DTSTAMP:20170926T173000Z
DTEND;TZID=Pacific Standard Time:20170926T200000Z
SUMMARY;ENCODING=QUOTED-PRINTABLE:U.S. Criminal Penalties for Slush Funds
DESCRIPTION;ENCODING=QUOTED-PRINTABLE:Woo Kim, Public Prosecutor, Seoul Southern District Prosecutor's Office, The Republic of Korea
LOCATION;ENCODING=QUOTED-PRINTABLE:11372 Bunche Hall, UCLA
UID:1271420170926T173000ZU.S. Criminal Penalties for Slush Funds
PRIORITY:3
BEGIN:VALARM
TRIGGER;VALUE=DURATION:-P1D
ACTION:DISPLAY
DESCRIPTION:Event reminder
END:VALARM
END:VEVENT
END:VCALENDAR
