BEGIN:VCALENDAR
CALSCALE:GREGORIAN
X-WR-TIMEZONE;VALUE=TEXT:Pacific Standard Time
METHOD:PUBLISH
PRODID:-//Flo Inc.//FloSoft//EN
BEGIN:VEVENT
DTSTART;TZID=Pacific Standard Time:20031112T230000Z
DTSTAMP:20031112T230000Z
DTEND;TZID=Pacific Standard Time:20031113T000000Z
SUMMARY;ENCODING=QUOTED-PRINTABLE:Inter-University Program (IUP) For Chinese Language Studies at Tsinghua
DESCRIPTION;ENCODING=QUOTED-PRINTABLE:Introduction & Orientation to the IUP Program in Beijing
LOCATION;ENCODING=QUOTED-PRINTABLE:243 Royce Hall, UCLA
UID:121520031112T230000ZInter-University Program (IUP) For Chinese Language Studies at Tsinghua
PRIORITY:3
BEGIN:VALARM
TRIGGER;VALUE=DURATION:-P1D
ACTION:DISPLAY
DESCRIPTION:Event reminder
END:VALARM
END:VEVENT
END:VCALENDAR
