BEGIN:VCALENDAR
CALSCALE:GREGORIAN
X-WR-TIMEZONE;VALUE=TEXT:Pacific Standard Time
METHOD:PUBLISH
PRODID:-//Flo Inc.//FloSoft//EN
BEGIN:VEVENT
DTSTART;TZID=Pacific Standard Time:20031017T200000Z
DTSTAMP:20031017T200000Z
DTEND;TZID=Pacific Standard Time:20031017T200000Z
SUMMARY;ENCODING=QUOTED-PRINTABLE:Play - Gao Xingjian's The Other Shore
DESCRIPTION;ENCODING=QUOTED-PRINTABLE:By the Sons of Beckett Theatre Company, Hollywood
LOCATION;ENCODING=QUOTED-PRINTABLE:The Sons of Beckett Theatre Company, 6425 Hollywood Blvd., 4th Floor, (between Wilcox & Cahuenga)
UID:115020031017T200000ZPlay - Gao Xingjian's The Other Shore
PRIORITY:3
BEGIN:VALARM
TRIGGER;VALUE=DURATION:-P1D
ACTION:DISPLAY
DESCRIPTION:Event reminder
END:VALARM
END:VEVENT
END:VCALENDAR
