BEGIN:VCALENDAR
CALSCALE:GREGORIAN
X-WR-TIMEZONE;VALUE=TEXT:Pacific Standard Time
METHOD:PUBLISH
PRODID:-//Flo Inc.//FloSoft//EN
BEGIN:VEVENT
DTSTART;TZID=Pacific Standard Time:20150511T210000Z
DTSTAMP:20150511T210000Z
DTEND;TZID=Pacific Standard Time:20150511T230000Z
SUMMARY;ENCODING=QUOTED-PRINTABLE:Book Signing-Cha Cha Files: A Chapina Poética
DESCRIPTION;ENCODING=QUOTED-PRINTABLE:Featuring Maya Chinchilla
LOCATION;ENCODING=QUOTED-PRINTABLE:Haines Hall 144, CSRC Library, UCLA
UID:1129220150511T210000ZBook Signing-Cha Cha Files: A Chapina Poética
PRIORITY:3
BEGIN:VALARM
TRIGGER;VALUE=DURATION:-P1D
ACTION:DISPLAY
DESCRIPTION:Event reminder
END:VALARM
END:VEVENT
END:VCALENDAR
