BEGIN:VCALENDAR
CALSCALE:GREGORIAN
X-WR-TIMEZONE;VALUE=TEXT:Pacific Standard Time
METHOD:PUBLISH
PRODID:-//Flo Inc.//FloSoft//EN
BEGIN:VEVENT
DTSTART;TZID=Pacific Standard Time:20150505T023000Z
DTSTAMP:20150505T023000Z
DTEND;TZID=Pacific Standard Time:20150505T033000Z
SUMMARY;ENCODING=QUOTED-PRINTABLE:Why Can't We Stop Genocide?
DESCRIPTION;ENCODING=QUOTED-PRINTABLE:Burkle Center Director Kal Raustiala moderates a panel on genocide at Zócalo
LOCATION;ENCODING=QUOTED-PRINTABLE:Goethe-Institut Los Angeles, 5750 Wilshire Blvd., Ste. 100
UID:1127020150505T023000ZWhy Can't We Stop Genocide?
PRIORITY:3
BEGIN:VALARM
TRIGGER;VALUE=DURATION:-P1D
ACTION:DISPLAY
DESCRIPTION:Event reminder
END:VALARM
END:VEVENT
END:VCALENDAR
