BEGIN:VCALENDAR
CALSCALE:GREGORIAN
X-WR-TIMEZONE;VALUE=TEXT:Pacific Standard Time
METHOD:PUBLISH
PRODID:-//Flo Inc.//FloSoft//EN
BEGIN:VEVENT
DTSTART;TZID=Pacific Standard Time:20150512T013000Z
DTSTAMP:20150512T013000Z
DTEND;TZID=Pacific Standard Time:20150512T023000Z
SUMMARY;ENCODING=QUOTED-PRINTABLE:10th Enriching the Middle East's Economic Future
DESCRIPTION;ENCODING=QUOTED-PRINTABLE:The annually held conference, hosted by the Emir of the State of Qatar, HRH Sheikh Tamim bin Hamad Al-Thani, will once again held in conjunction with the Doha Forum.
LOCATION;ENCODING=QUOTED-PRINTABLE:Doha, Qatar
UID:1126620150512T013000Z10th Enriching the Middle East's Economic Future
PRIORITY:3
BEGIN:VALARM
TRIGGER;VALUE=DURATION:-P1D
ACTION:DISPLAY
DESCRIPTION:Event reminder
END:VALARM
END:VEVENT
END:VCALENDAR
