BEGIN:VCALENDAR
CALSCALE:GREGORIAN
X-WR-TIMEZONE;VALUE=TEXT:Pacific Standard Time
METHOD:PUBLISH
PRODID:-//Flo Inc.//FloSoft//EN
BEGIN:VEVENT
DTSTART;TZID=Pacific Standard Time:20150515T190000Z
DTSTAMP:20150515T190000Z
DTEND;TZID=Pacific Standard Time:20150515T203000Z
SUMMARY;ENCODING=QUOTED-PRINTABLE:Author-Meets-Critics Session on- Skills of the “Unskilled”: Work and Mobility Among Mexican Migrants
DESCRIPTION;ENCODING=QUOTED-PRINTABLE:The International Institute and the UCLA Program on International Migration are pleased to present
LOCATION;ENCODING=QUOTED-PRINTABLE: Haines Hall 279, Sociology Seminar Room, UCLA
UID:1124720150515T190000ZAuthor-Meets-Critics Session on- Skills of the “Unskilled”: Work and Mobility Among Mexican Migrants
PRIORITY:3
BEGIN:VALARM
TRIGGER;VALUE=DURATION:-P1D
ACTION:DISPLAY
DESCRIPTION:Event reminder
END:VALARM
END:VEVENT
END:VCALENDAR
