BEGIN:VCALENDAR
CALSCALE:GREGORIAN
X-WR-TIMEZONE;VALUE=TEXT:Pacific Standard Time
METHOD:PUBLISH
PRODID:-//Flo Inc.//FloSoft//EN
BEGIN:VEVENT
DTSTART;TZID=Pacific Standard Time:20141027T233000Z
DTSTAMP:20141027T233000Z
DTEND;TZID=Pacific Standard Time:20141028T010000Z
SUMMARY;ENCODING=QUOTED-PRINTABLE:“Same-Sex Intimacies in an Early Modern African Text about an Ethiopian Female Saint, Gädlä Wälättä P̣eṭros (1672)”
DESCRIPTION;ENCODING=QUOTED-PRINTABLE:Professor Wendy Belcher, Princeton University, speaks to the intricacies of translations to shed light on a seventeenth-century Ethiopian manuscript in this lecture.
LOCATION;ENCODING=QUOTED-PRINTABLE:11360 Young Research Library (YRL), YRL Conference Center
UID:1084420141027T233000Z“Same-Sex Intimacies in an Early Modern African Text about an Ethiopian Female Saint, Gädlä Wälättä P̣eṭros (1672)”
PRIORITY:3
BEGIN:VALARM
TRIGGER;VALUE=DURATION:-P1D
ACTION:DISPLAY
DESCRIPTION:Event reminder
END:VALARM
END:VEVENT
END:VCALENDAR
