BEGIN:VCALENDAR
CALSCALE:GREGORIAN
X-WR-TIMEZONE;VALUE=TEXT:Pacific Standard Time
METHOD:PUBLISH
PRODID:-//Flo Inc.//FloSoft//EN
BEGIN:VEVENT
DTSTART;TZID=Pacific Standard Time:20141022T033000Z
DTSTAMP:20141022T033000Z
DTEND;TZID=Pacific Standard Time:20141022T053000Z
SUMMARY;ENCODING=QUOTED-PRINTABLE:Wild Women
DESCRIPTION;ENCODING=QUOTED-PRINTABLE:
LOCATION;ENCODING=QUOTED-PRINTABLE:REDCAT (Roy and Edna Disney/CalArts Theatre), Walt Disney Concert Hall Complex, 631 West 2nd Street, North American / Los Angeles Premiere 
UID:1071820141022T033000ZWild Women
PRIORITY:3
BEGIN:VALARM
TRIGGER;VALUE=DURATION:-P1D
ACTION:DISPLAY
DESCRIPTION:Event reminder
END:VALARM
END:VEVENT
END:VCALENDAR
