BEGIN:VCALENDAR
CALSCALE:GREGORIAN
X-WR-TIMEZONE;VALUE=TEXT:Pacific Standard Time
METHOD:PUBLISH
PRODID:-//Flo Inc.//FloSoft//EN
BEGIN:VEVENT
DTSTART;TZID=Pacific Standard Time:20140816T023000Z
DTSTAMP:20140816T023000Z
DTEND;TZID=Pacific Standard Time:20140816T053000Z
SUMMARY;ENCODING=QUOTED-PRINTABLE:Tropicália & A Night in 67 (Uma noite em 67) 
DESCRIPTION;ENCODING=QUOTED-PRINTABLE:Part of “Cruzamentos: Contemporary Brazilian Documentary”
LOCATION;ENCODING=QUOTED-PRINTABLE:Billy Wilder Theater (Hammer Museum), 10899 Wilshire Blvd.
UID:1069520140816T023000ZTropicália & A Night in 67 (Uma noite em 67) 
PRIORITY:3
BEGIN:VALARM
TRIGGER;VALUE=DURATION:-P1D
ACTION:DISPLAY
DESCRIPTION:Event reminder
END:VALARM
END:VEVENT
END:VCALENDAR
