BEGIN:VCALENDAR
CALSCALE:GREGORIAN
X-WR-TIMEZONE;VALUE=TEXT:Pacific Standard Time
METHOD:PUBLISH
PRODID:-//Flo Inc.//FloSoft//EN
BEGIN:VEVENT
DTSTART;TZID=Pacific Standard Time:20140804T020000Z
DTSTAMP:20140804T020000Z
DTEND;TZID=Pacific Standard Time:20140804T050000Z
SUMMARY;ENCODING=QUOTED-PRINTABLE:News From a Personal War (Notícias de uma guerra particular); Justice (Justica); Socorro Nobre 
DESCRIPTION;ENCODING=QUOTED-PRINTABLE:Part of “Cruzamentos: Contemporary Brazilian Documentary”
LOCATION;ENCODING=QUOTED-PRINTABLE:Billy Wilder Theater (Hammer Museum), 10899 Wilshire Blvd.
UID:1069320140804T020000ZNews From a Personal War (Notícias de uma guerra particular); Justice (Justica); Socorro Nobre 
PRIORITY:3
BEGIN:VALARM
TRIGGER;VALUE=DURATION:-P1D
ACTION:DISPLAY
DESCRIPTION:Event reminder
END:VALARM
END:VEVENT
END:VCALENDAR
