BEGIN:VCALENDAR
CALSCALE:GREGORIAN
X-WR-TIMEZONE;VALUE=TEXT:Pacific Standard Time
METHOD:PUBLISH
PRODID:-//Flo Inc.//FloSoft//EN
BEGIN:VEVENT
DTSTART;TZID=Pacific Standard Time:20140721T020000Z
DTSTAMP:20140721T020000Z
DTEND;TZID=Pacific Standard Time:20140721T053000Z
SUMMARY;ENCODING=QUOTED-PRINTABLE:The End and the Beginning (O fim e o princípio) & The Earth Giveth, The Earth Taketh Away (Terra deu, terra come)
DESCRIPTION;ENCODING=QUOTED-PRINTABLE:Part of “Cruzamentos: Contemporary Brazilian Documentary”
LOCATION;ENCODING=QUOTED-PRINTABLE:Billy Wilder Theater (Hammer Museum), 10899 Wilshire Blvd.
UID:1069120140721T020000ZThe End and the Beginning (O fim e o princípio) & The Earth Giveth, The Earth Taketh Away (Terra deu, terra come)
PRIORITY:3
BEGIN:VALARM
TRIGGER;VALUE=DURATION:-P1D
ACTION:DISPLAY
DESCRIPTION:Event reminder
END:VALARM
END:VEVENT
END:VCALENDAR
