BEGIN:VCALENDAR
CALSCALE:GREGORIAN
X-WR-TIMEZONE;VALUE=TEXT:Pacific Standard Time
METHOD:PUBLISH
PRODID:-//Flo Inc.//FloSoft//EN
BEGIN:VEVENT
DTSTART;TZID=Pacific Standard Time:20141016T190000Z
DTSTAMP:20141016T190000Z
DTEND;TZID=Pacific Standard Time:20141016T203000Z
SUMMARY;ENCODING=QUOTED-PRINTABLE:The First Knowledge Economy: Human Capital and the European Economy, 1750–1850
DESCRIPTION;ENCODING=QUOTED-PRINTABLE:CEES book talk with author Margaret Jacob, UCLA, History. Discussant: Gregory Clark, UC Davis, Economics.
LOCATION;ENCODING=QUOTED-PRINTABLE:10383 Bunche Hall
UID:1068020141016T190000ZThe First Knowledge Economy: Human Capital and the European Economy, 1750–1850
PRIORITY:3
BEGIN:VALARM
TRIGGER;VALUE=DURATION:-P1D
ACTION:DISPLAY
DESCRIPTION:Event reminder
END:VALARM
END:VEVENT
END:VCALENDAR
