BEGIN:VCALENDAR
CALSCALE:GREGORIAN
X-WR-TIMEZONE;VALUE=TEXT:Pacific Standard Time
METHOD:PUBLISH
PRODID:-//Flo Inc.//FloSoft//EN
BEGIN:VEVENT
DTSTART;TZID=Pacific Standard Time:20140414T000000Z
DTSTAMP:20140414T000000Z
DTEND;TZID=Pacific Standard Time:20140414T010000Z
SUMMARY;ENCODING=QUOTED-PRINTABLE:Russian and Soviet Occupation of Iran in the First World War
DESCRIPTION;ENCODING=QUOTED-PRINTABLE:A talk in Persian by Dr. Elham Malekzadeh. Part of the CNES and Program of Iranian Studies Bilingual Lecture Series.
LOCATION;ENCODING=QUOTED-PRINTABLE:161 Dodd Hall, UCLA
UID:1051820140414T000000ZRussian and Soviet Occupation of Iran in the First World War
PRIORITY:3
BEGIN:VALARM
TRIGGER;VALUE=DURATION:-P1D
ACTION:DISPLAY
DESCRIPTION:Event reminder
END:VALARM
END:VEVENT
END:VCALENDAR
