BEGIN:VCALENDAR
CALSCALE:GREGORIAN
X-WR-TIMEZONE;VALUE=TEXT:Pacific Standard Time
METHOD:PUBLISH
PRODID:-//Flo Inc.//FloSoft//EN
BEGIN:VEVENT
DTSTART;TZID=Pacific Standard Time:20140220T191500Z
DTSTAMP:20140220T191500Z
DTEND;TZID=Pacific Standard Time:20140220T204500Z
SUMMARY;ENCODING=QUOTED-PRINTABLE:David Novak - Making Noise to Power: Music, Sound, and Social Protest in Japan’s Antinuclear Movement
DESCRIPTION;ENCODING=QUOTED-PRINTABLE:Lecture by Professor David Novak of UCSB. This event is part of the “Culture Power and Social Change (CPSC)” lecture series sponsored by the UCLA Department of Anthropology.

http://www.anthro.ucla.edu/cpsc-david-novak-tba/
LOCATION;ENCODING=QUOTED-PRINTABLE:UCLA, 352 Haines Hall
UID:1042020140220T191500ZDavid Novak - Making Noise to Power: Music, Sound, and Social Protest in Japan’s Antinuclear Movement
PRIORITY:3
BEGIN:VALARM
TRIGGER;VALUE=DURATION:-P1D
ACTION:DISPLAY
DESCRIPTION:Event reminder
END:VALARM
END:VEVENT
END:VCALENDAR
