BEGIN:VCALENDAR
CALSCALE:GREGORIAN
X-WR-TIMEZONE;VALUE=TEXT:Pacific Standard Time
METHOD:PUBLISH
PRODID:-//Flo Inc.//FloSoft//EN
BEGIN:VEVENT
DTSTART;TZID=Pacific Standard Time:20131206T230000Z
DTSTAMP:20131206T230000Z
DTEND;TZID=Pacific Standard Time:20131207T010000Z
SUMMARY;ENCODING=QUOTED-PRINTABLE:The Princeton Dictionary of Buddhism Book Launch
DESCRIPTION;ENCODING=QUOTED-PRINTABLE:The authors will discuss some of the new and emerging perspectives on Buddhism that can be gleaned from consulting the dictionary. They will also present a Top Ten list of misconceptions about Buddhism that are addressed in the dictionary. 

LOCATION;ENCODING=QUOTED-PRINTABLE:314 Royce Hall, UCLA
UID:1029820131206T230000ZThe Princeton Dictionary of Buddhism Book Launch
PRIORITY:3
BEGIN:VALARM
TRIGGER;VALUE=DURATION:-P1D
ACTION:DISPLAY
DESCRIPTION:Event reminder
END:VALARM
END:VEVENT
END:VCALENDAR
