BEGIN:VCALENDAR
CALSCALE:GREGORIAN
X-WR-TIMEZONE;VALUE=TEXT:Pacific Standard Time
METHOD:PUBLISH
PRODID:-//Flo Inc.//FloSoft//EN
BEGIN:VEVENT
DTSTART;TZID=Pacific Standard Time:20131209T030000Z
DTSTAMP:20131209T030000Z
DTEND;TZID=Pacific Standard Time:20131209T050000Z
SUMMARY;ENCODING=QUOTED-PRINTABLE:Listening to the Other: Mideast Musical Dialogues, December 2-8
DESCRIPTION;ENCODING=QUOTED-PRINTABLE:A groundbreaking week of public performances, master classes and panel discussions, highlighting the important role music can play in promoting cross-cultural understanding and transnational reconciliation.


LOCATION;ENCODING=QUOTED-PRINTABLE:Final Concert at Royce Hall
UID:1015820131209T030000ZListening to the Other: Mideast Musical Dialogues, December 2-8
PRIORITY:3
BEGIN:VALARM
TRIGGER;VALUE=DURATION:-P1D
ACTION:DISPLAY
DESCRIPTION:Event reminder
END:VALARM
END:VEVENT
END:VCALENDAR
